BEGIN:VCALENDAR
VERSION:2.0
PRODID:-//Gymnasium Tostedt - ECPv6.15.11//NONSGML v1.0//EN
CALSCALE:GREGORIAN
METHOD:PUBLISH
X-WR-CALNAME:Gymnasium Tostedt
X-ORIGINAL-URL:https://www.gymnasiumtostedt.de
X-WR-CALDESC:Veranstaltungen für Gymnasium Tostedt
REFRESH-INTERVAL;VALUE=DURATION:PT1H
X-Robots-Tag:noindex
X-PUBLISHED-TTL:PT1H
BEGIN:VTIMEZONE
TZID:Europe/Berlin
BEGIN:DAYLIGHT
TZOFFSETFROM:+0100
TZOFFSETTO:+0200
TZNAME:CEST
DTSTART:20250330T010000
END:DAYLIGHT
BEGIN:STANDARD
TZOFFSETFROM:+0200
TZOFFSETTO:+0100
TZNAME:CET
DTSTART:20251026T010000
END:STANDARD
BEGIN:DAYLIGHT
TZOFFSETFROM:+0100
TZOFFSETTO:+0200
TZNAME:CEST
DTSTART:20260329T010000
END:DAYLIGHT
BEGIN:STANDARD
TZOFFSETFROM:+0200
TZOFFSETTO:+0100
TZNAME:CET
DTSTART:20261025T010000
END:STANDARD
BEGIN:DAYLIGHT
TZOFFSETFROM:+0100
TZOFFSETTO:+0200
TZNAME:CEST
DTSTART:20270328T010000
END:DAYLIGHT
BEGIN:STANDARD
TZOFFSETFROM:+0200
TZOFFSETTO:+0100
TZNAME:CET
DTSTART:20271031T010000
END:STANDARD
END:VTIMEZONE
BEGIN:VEVENT
DTSTART;VALUE=DATE:20260527
DTEND;VALUE=DATE:20260528
DTSTAMP:20260422T001816
CREATED:20250507T112206Z
LAST-MODIFIED:20260421T220557Z
UID:102883-1779840000-1779926399@www.gymnasiumtostedt.de
SUMMARY:ABITUR 2026: Tag 1 der mündlichen Prüfungen; Studientag für Jg. 5-12
DESCRIPTION:
URL:https://www.gymnasiumtostedt.de/event/abitur-2026-tag-1-der-muendlichen-pruefungen-studientag-fuer-jg-5-12/
END:VEVENT
END:VCALENDAR