BEGIN:VCALENDAR
VERSION:2.0
PRODID:-//Gymnasium Tostedt - ECPv6.15.11//NONSGML v1.0//EN
CALSCALE:GREGORIAN
METHOD:PUBLISH
X-WR-CALNAME:Gymnasium Tostedt
X-ORIGINAL-URL:https://www.gymnasiumtostedt.de
X-WR-CALDESC:Veranstaltungen für Gymnasium Tostedt
REFRESH-INTERVAL;VALUE=DURATION:PT1H
X-Robots-Tag:noindex
X-PUBLISHED-TTL:PT1H
BEGIN:VTIMEZONE
TZID:Europe/Berlin
BEGIN:DAYLIGHT
TZOFFSETFROM:+0100
TZOFFSETTO:+0200
TZNAME:CEST
DTSTART:20240331T010000
END:DAYLIGHT
BEGIN:STANDARD
TZOFFSETFROM:+0200
TZOFFSETTO:+0100
TZNAME:CET
DTSTART:20241027T010000
END:STANDARD
BEGIN:DAYLIGHT
TZOFFSETFROM:+0100
TZOFFSETTO:+0200
TZNAME:CEST
DTSTART:20250330T010000
END:DAYLIGHT
BEGIN:STANDARD
TZOFFSETFROM:+0200
TZOFFSETTO:+0100
TZNAME:CET
DTSTART:20251026T010000
END:STANDARD
BEGIN:DAYLIGHT
TZOFFSETFROM:+0100
TZOFFSETTO:+0200
TZNAME:CEST
DTSTART:20260329T010000
END:DAYLIGHT
BEGIN:STANDARD
TZOFFSETFROM:+0200
TZOFFSETTO:+0100
TZNAME:CET
DTSTART:20261025T010000
END:STANDARD
BEGIN:DAYLIGHT
TZOFFSETFROM:+0100
TZOFFSETTO:+0200
TZNAME:CEST
DTSTART:20270328T010000
END:DAYLIGHT
BEGIN:STANDARD
TZOFFSETFROM:+0200
TZOFFSETTO:+0100
TZNAME:CET
DTSTART:20271031T010000
END:STANDARD
END:VTIMEZONE
BEGIN:VEVENT
DTSTART;VALUE=DATE:20260420
DTEND;VALUE=DATE:20260421
DTSTAMP:20260421T225508
CREATED:20250217T122133Z
LAST-MODIFIED:20260420T213554Z
UID:99204-1776643200-1776729599@www.gymnasiumtostedt.de
SUMMARY:Beantragung des Buchpreises für das beste Deutschabiturs bei der Gesellschaft für deutsche Sprache
DESCRIPTION:
URL:https://www.gymnasiumtostedt.de/event/beantragung-des-buchpreises-fuer-das-beste-deutschabiturs-bei-der-gesellschaft-fuer-deutsche-sprache/
LOCATION:VDS-Geschäftsstelle &lt;info@vds-ev.de&gt;
CATEGORIES:Rote Kategorie
END:VEVENT
BEGIN:VEVENT
DTSTART;TZID=Europe/Berlin:20260416T173000
DTEND;TZID=Europe/Berlin:20260416T190000
DTSTAMP:20260421T225508
CREATED:20260225T083620Z
LAST-MODIFIED:20260416T163551Z
UID:115868-1776360600-1776366000@www.gymnasiumtostedt.de
SUMMARY:Fachkonferenz Deutsch
DESCRIPTION:Verantwortlich Se
URL:https://www.gymnasiumtostedt.de/event/fachkonferenz-deutsch-3/
LOCATION:401
END:VEVENT
BEGIN:VEVENT
DTSTART;TZID=Europe/Berlin:20260416T170000
DTEND;TZID=Europe/Berlin:20260416T183000
DTSTAMP:20260421T225508
CREATED:20250905T053640Z
LAST-MODIFIED:20260416T155058Z
UID:108186-1776358800-1776364200@www.gymnasiumtostedt.de
SUMMARY:Fachkonferenz Mathematik
DESCRIPTION:Verantwortlich Wr
URL:https://www.gymnasiumtostedt.de/event/fachkonferenz-mathematik-2/
LOCATION:414
END:VEVENT
BEGIN:VEVENT
DTSTART;TZID=Europe/Berlin:20260415T074000
DTEND;TZID=Europe/Berlin:20260415T102000
DTSTAMP:20260421T225508
CREATED:20260312T092110Z
LAST-MODIFIED:20260415T075050Z
UID:116541-1776238800-1776248400@www.gymnasiumtostedt.de
SUMMARY:Mathe Olympiade Stufe III
DESCRIPTION:
URL:https://www.gymnasiumtostedt.de/event/mathe-olympiade-stufe-iii/
END:VEVENT
BEGIN:VEVENT
DTSTART;TZID=Europe/Berlin:20260409T111000
DTEND;TZID=Europe/Berlin:20260409T113000
DTSTAMP:20260421T225508
CREATED:20260317T133553Z
LAST-MODIFIED:20260409T092056Z
UID:116765-1775733000-1775734200@www.gymnasiumtostedt.de
SUMMARY:Infopause zur Jugendrat-Wahl\, Jg. 9-12
DESCRIPTION:
URL:https://www.gymnasiumtostedt.de/event/infopause-zur-jugendrat-wahl-jg-9-12/
END:VEVENT
BEGIN:VEVENT
DTSTART;TZID=Europe/Berlin:20260409T091500
DTEND;TZID=Europe/Berlin:20260409T093500
DTSTAMP:20260421T225508
CREATED:20260317T133553Z
LAST-MODIFIED:20260409T072102Z
UID:116764-1775726100-1775727300@www.gymnasiumtostedt.de
SUMMARY:Infopause zur Jugendrat-Wahl\, Jg. 5-8
DESCRIPTION:
URL:https://www.gymnasiumtostedt.de/event/infopause-zur-jugendrat-wahl-jg-5-8/
END:VEVENT
BEGIN:VEVENT
DTSTART;TZID=Europe/Berlin:20260408T120000
DTEND;TZID=Europe/Berlin:20260408T130000
DTSTAMP:20260421T225508
CREATED:20250507T112152Z
LAST-MODIFIED:20260408T103552Z
UID:102878-1775649600-1775653200@www.gymnasiumtostedt.de
SUMMARY:ABITUR 2026: Ende des 4. Kurshalbjahres
DESCRIPTION:Verantwortlich Kc
URL:https://www.gymnasiumtostedt.de/event/abitur-2026-ende-des-4-kurshalbjahres/
LOCATION:PH1
END:VEVENT
BEGIN:VEVENT
DTSTART;VALUE=DATE:20260408
DTEND;VALUE=DATE:20260411
DTSTAMP:20260421T225508
CREATED:20250508T095246Z
LAST-MODIFIED:20260410T232058Z
UID:102954-1775606400-1775865599@www.gymnasiumtostedt.de
SUMMARY:Webcoaches-Ausbildung
DESCRIPTION:
URL:https://www.gymnasiumtostedt.de/event/webcoaches-ausbildung/
LOCATION:JUZ
END:VEVENT
BEGIN:VEVENT
DTSTART;TZID=Europe/Berlin:20260319T074000
DTEND;TZID=Europe/Berlin:20260319T111000
DTSTAMP:20260421T225508
CREATED:20260224T110554Z
LAST-MODIFIED:20260319T095059Z
UID:115829-1773906000-1773918600@www.gymnasiumtostedt.de
SUMMARY:Big Challenge
DESCRIPTION:
URL:https://www.gymnasiumtostedt.de/event/big-challenge/
END:VEVENT
BEGIN:VEVENT
DTSTART;TZID=Europe/Berlin:20260317T170000
DTEND;TZID=Europe/Berlin:20260317T183000
DTSTAMP:20260421T225508
CREATED:20250916T075126Z
LAST-MODIFIED:20260317T170555Z
UID:108660-1773766800-1773772200@www.gymnasiumtostedt.de
SUMMARY:Fachkonferenz Religion
DESCRIPTION:Verantwortlich Kmp
URL:https://www.gymnasiumtostedt.de/event/fachkonferenz-religion-3/
LOCATION:305
END:VEVENT
BEGIN:VEVENT
DTSTART;TZID=Europe/Berlin:20260312T180000
DTEND;TZID=Europe/Berlin:20260312T193000
DTSTAMP:20260421T225508
CREATED:20250507T112152Z
LAST-MODIFIED:20260312T180557Z
UID:102876-1773338400-1773343800@www.gymnasiumtostedt.de
SUMMARY:Vorstellung zweite Fremdsprachen für Jg. 5
DESCRIPTION:Verantwortlich Wol
URL:https://www.gymnasiumtostedt.de/event/vorstellung-zweite-fremdsprachen-fuer-jg-5/
LOCATION:Aula
END:VEVENT
BEGIN:VEVENT
DTSTART;TZID=Europe/Berlin:20260312T170000
DTEND;TZID=Europe/Berlin:20260312T183000
DTSTAMP:20260421T225508
CREATED:20260206T122149Z
LAST-MODIFIED:20260312T172054Z
UID:114978-1773334800-1773340200@www.gymnasiumtostedt.de
SUMMARY:Fachkonferenz Latein
DESCRIPTION:Verantwortlich Ol
URL:https://www.gymnasiumtostedt.de/event/fachkonferenz-latein-3/
LOCATION:Bibliothek
END:VEVENT
BEGIN:VEVENT
DTSTART;TZID=Europe/Berlin:20260312T170000
DTEND;TZID=Europe/Berlin:20260312T183000
DTSTAMP:20260421T225508
CREATED:20250507T112152Z
LAST-MODIFIED:20260312T172054Z
UID:102877-1773334800-1773340200@www.gymnasiumtostedt.de
SUMMARY:Schulvorstand 3
DESCRIPTION:
URL:https://www.gymnasiumtostedt.de/event/schulvorstand-3/
LOCATION:305
END:VEVENT
BEGIN:VEVENT
DTSTART;TZID=Europe/Berlin:20260305T160000
DTEND;TZID=Europe/Berlin:20260305T190000
DTSTAMP:20260421T225508
CREATED:20250507T112151Z
LAST-MODIFIED:20260305T173632Z
UID:102874-1772726400-1772737200@www.gymnasiumtostedt.de
SUMMARY:Vorhang auf! Vorstellung des Gymnasiums Tostedt
DESCRIPTION:
URL:https://www.gymnasiumtostedt.de/event/vorhang-auf-vorstellung-des-gymnasiums-tostedt/
END:VEVENT
BEGIN:VEVENT
DTSTART;TZID=Europe/Berlin:20260225T160000
DTEND;TZID=Europe/Berlin:20260225T190000
DTSTAMP:20260421T225508
CREATED:20250507T112137Z
LAST-MODIFIED:20260225T173557Z
UID:102873-1772035200-1772046000@www.gymnasiumtostedt.de
SUMMARY:Elternsprechtag Nr. 2
DESCRIPTION:
URL:https://www.gymnasiumtostedt.de/event/elternsprechtag-nr-2-2/
END:VEVENT
BEGIN:VEVENT
DTSTART;TZID=Europe/Berlin:20260219T193000
DTEND;TZID=Europe/Berlin:20260219T210000
DTSTAMP:20260421T225508
CREATED:20250507T112137Z
LAST-MODIFIED:20260219T193557Z
UID:102872-1771529400-1771534800@www.gymnasiumtostedt.de
SUMMARY:Schulelternrat 3
DESCRIPTION:
URL:https://www.gymnasiumtostedt.de/event/schulelternrat-3/
LOCATION:Aula
END:VEVENT
BEGIN:VEVENT
DTSTART;VALUE=DATE:20260204
DTEND;VALUE=DATE:20260319
DTSTAMP:20260421T225508
CREATED:20250507T112152Z
LAST-MODIFIED:20260318T232053Z
UID:102875-1770163200-1773878399@www.gymnasiumtostedt.de
SUMMARY:Q-Phase Jg. 12: Zeitraum zur Erstellung der Facharbeit
DESCRIPTION:
URL:https://www.gymnasiumtostedt.de/event/q-phase-jg-13-zeitraum-zur-erstellung-der-facharbeit/
END:VEVENT
BEGIN:VEVENT
DTSTART;TZID=Europe/Berlin:20260130T093500
DTEND;TZID=Europe/Berlin:20260130T102000
DTSTAMP:20260421T225508
CREATED:20250507T112137Z
LAST-MODIFIED:20260130T085124Z
UID:102871-1769765700-1769768400@www.gymnasiumtostedt.de
SUMMARY:Halbjahresende und Zeugnisausgabe
DESCRIPTION:Unterrichtsschluss nach der 3. Stunde
URL:https://www.gymnasiumtostedt.de/event/halbjahresende-und-zeugnisausgabe/
END:VEVENT
BEGIN:VEVENT
DTSTART;TZID=Europe/Berlin:20260128T140000
DTEND;TZID=Europe/Berlin:20260128T180000
DTSTAMP:20260421T225508
CREATED:20250507T112137Z
LAST-MODIFIED:20260128T165053Z
UID:102870-1769608800-1769623200@www.gymnasiumtostedt.de
SUMMARY:Zeugniskonferenzen Tag 2
DESCRIPTION:Details folgen
URL:https://www.gymnasiumtostedt.de/event/zeugniskonferenzen-tag-2/
END:VEVENT
BEGIN:VEVENT
DTSTART;TZID=Europe/Berlin:20260127T140000
DTEND;TZID=Europe/Berlin:20260127T180000
DTSTAMP:20260421T225508
CREATED:20250507T112137Z
LAST-MODIFIED:20260127T162053Z
UID:102869-1769522400-1769536800@www.gymnasiumtostedt.de
SUMMARY:Zeugniskonferenzen Tag 1
DESCRIPTION:Details folgen
URL:https://www.gymnasiumtostedt.de/event/zeugniskonferenzen-tag-1/
END:VEVENT
BEGIN:VEVENT
DTSTART;TZID=Europe/Berlin:20260122T170000
DTEND;TZID=Europe/Berlin:20260122T183000
DTSTAMP:20260421T225508
CREATED:20251106T122121Z
LAST-MODIFIED:20260122T165055Z
UID:110888-1769101200-1769106600@www.gymnasiumtostedt.de
SUMMARY:Fachkonferenz Musik
DESCRIPTION:Verantwortlich Kst
URL:https://www.gymnasiumtostedt.de/event/fachkonferenz-musik/
LOCATION:401
END:VEVENT
BEGIN:VEVENT
DTSTART;VALUE=DATE:20260119
DTEND;VALUE=DATE:20260207
DTSTAMP:20260421T225508
CREATED:20250507T112136Z
LAST-MODIFIED:20260206T232104Z
UID:102868-1768780800-1770422399@www.gymnasiumtostedt.de
SUMMARY:Betriebspraktikum Jg. 11
DESCRIPTION:
URL:https://www.gymnasiumtostedt.de/event/betriebspraktikum-jg-11/
END:VEVENT
BEGIN:VEVENT
DTSTART;TZID=Europe/Berlin:20260115T170000
DTEND;TZID=Europe/Berlin:20260115T183000
DTSTAMP:20260421T225508
CREATED:20260107T093558Z
LAST-MODIFIED:20260115T170554Z
UID:113636-1768496400-1768501800@www.gymnasiumtostedt.de
SUMMARY:Fachkonferenz Chemie
DESCRIPTION:Verantwortlich Zi
URL:https://www.gymnasiumtostedt.de/event/fachkonferenz-chemie-2/
LOCATION:PH1
END:VEVENT
BEGIN:VEVENT
DTSTART;TZID=Europe/Berlin:20260115T170000
DTEND;TZID=Europe/Berlin:20260115T183000
DTSTAMP:20260421T225508
CREATED:20251106T103634Z
LAST-MODIFIED:20260115T170554Z
UID:110881-1768496400-1768501800@www.gymnasiumtostedt.de
SUMMARY:Fachkonferenz Sport
DESCRIPTION:Verantwortlich Tbk
URL:https://www.gymnasiumtostedt.de/event/fachkonferenz-sport-2/
LOCATION:305
END:VEVENT
BEGIN:VEVENT
DTSTART;TZID=Europe/Berlin:20251219T113000
DTEND;TZID=Europe/Berlin:20251219T121500
DTSTAMP:20260421T225508
CREATED:20250507T103651Z
LAST-MODIFIED:20251219T105100Z
UID:102858-1766143800-1766146500@www.gymnasiumtostedt.de
SUMMARY:Zeugnisausgabe Q-Phase; Ende des 1. bzw. 3. Semesters
DESCRIPTION:
URL:https://www.gymnasiumtostedt.de/event/zeugnisausgabe-q-phase-ende-des-1-bzw-3-semesters/
END:VEVENT
BEGIN:VEVENT
DTSTART;TZID=Europe/Berlin:20251216T190000
DTEND;TZID=Europe/Berlin:20251216T203000
DTSTAMP:20260421T225508
CREATED:20251106T103634Z
LAST-MODIFIED:20251216T192051Z
UID:110880-1765911600-1765917000@www.gymnasiumtostedt.de
SUMMARY:Elterninformationsabend zur Q-Phase Jg. 11
DESCRIPTION:Verantwortlich Kc
URL:https://www.gymnasiumtostedt.de/event/elterninformationsabend-zur-q-phase-jg-11/
LOCATION:Aula
END:VEVENT
BEGIN:VEVENT
DTSTART;TZID=Europe/Berlin:20251216T173000
DTEND;TZID=Europe/Berlin:20251216T183000
DTSTAMP:20260421T225508
CREATED:20251106T103633Z
LAST-MODIFIED:20251216T172058Z
UID:110879-1765906200-1765909800@www.gymnasiumtostedt.de
SUMMARY:Elterninformationsabend Jg. 10
DESCRIPTION:Verantwortlich Kc
URL:https://www.gymnasiumtostedt.de/event/elterninformationsabend-jg-10/
LOCATION:Aula
END:VEVENT
BEGIN:VEVENT
DTSTART;TZID=Europe/Berlin:20251216T160000
DTEND;TZID=Europe/Berlin:20251216T163000
DTSTAMP:20260421T225508
CREATED:20250925T120624Z
LAST-MODIFIED:20251216T152055Z
UID:109061-1765900800-1765902600@www.gymnasiumtostedt.de
SUMMARY:Notenkonferenz Q2
DESCRIPTION:Verantwortlich Kc
URL:https://www.gymnasiumtostedt.de/event/notenkonferenz-q2/
LOCATION:PH1
END:VEVENT
BEGIN:VEVENT
DTSTART;TZID=Europe/Berlin:20251216T153000
DTEND;TZID=Europe/Berlin:20251216T160000
DTSTAMP:20260421T225508
CREATED:20250925T120624Z
LAST-MODIFIED:20251216T145055Z
UID:109060-1765899000-1765900800@www.gymnasiumtostedt.de
SUMMARY:Notenkonferenz Q1
DESCRIPTION:Verantwortlich Kc
URL:https://www.gymnasiumtostedt.de/event/notenkonferenz-q1/
LOCATION:PH1
END:VEVENT
BEGIN:VEVENT
DTSTART;TZID=Europe/Berlin:20251211T171500
DTEND;TZID=Europe/Berlin:20251211T184500
DTSTAMP:20260421T225508
CREATED:20250507T103651Z
LAST-MODIFIED:20251204T130611Z
UID:102857-1765473300-1765478700@www.gymnasiumtostedt.de
SUMMARY:Schulvorstand Nr. 2
DESCRIPTION:
URL:https://www.gymnasiumtostedt.de/event/schulvorstand-nr-2/
LOCATION:305
END:VEVENT
END:VCALENDAR