BEGIN:VCALENDAR
VERSION:2.0
PRODID:-//Gymnasium Tostedt - ECPv6.15.11//NONSGML v1.0//EN
CALSCALE:GREGORIAN
METHOD:PUBLISH
X-ORIGINAL-URL:https://www.gymnasiumtostedt.de
X-WR-CALDESC:Veranstaltungen für Gymnasium Tostedt
REFRESH-INTERVAL;VALUE=DURATION:PT1H
X-Robots-Tag:noindex
X-PUBLISHED-TTL:PT1H
BEGIN:VTIMEZONE
TZID:Europe/Berlin
BEGIN:DAYLIGHT
TZOFFSETFROM:+0100
TZOFFSETTO:+0200
TZNAME:CEST
DTSTART:20250330T010000
END:DAYLIGHT
BEGIN:STANDARD
TZOFFSETFROM:+0200
TZOFFSETTO:+0100
TZNAME:CET
DTSTART:20251026T010000
END:STANDARD
BEGIN:DAYLIGHT
TZOFFSETFROM:+0100
TZOFFSETTO:+0200
TZNAME:CEST
DTSTART:20260329T010000
END:DAYLIGHT
BEGIN:STANDARD
TZOFFSETFROM:+0200
TZOFFSETTO:+0100
TZNAME:CET
DTSTART:20261025T010000
END:STANDARD
BEGIN:DAYLIGHT
TZOFFSETFROM:+0100
TZOFFSETTO:+0200
TZNAME:CEST
DTSTART:20270328T010000
END:DAYLIGHT
BEGIN:STANDARD
TZOFFSETFROM:+0200
TZOFFSETTO:+0100
TZNAME:CET
DTSTART:20271031T010000
END:STANDARD
BEGIN:DAYLIGHT
TZOFFSETFROM:+0100
TZOFFSETTO:+0200
TZNAME:CEST
DTSTART:20280326T010000
END:DAYLIGHT
BEGIN:STANDARD
TZOFFSETFROM:+0200
TZOFFSETTO:+0100
TZNAME:CET
DTSTART:20281029T010000
END:STANDARD
BEGIN:DAYLIGHT
TZOFFSETFROM:+0100
TZOFFSETTO:+0200
TZNAME:CEST
DTSTART:20290325T010000
END:DAYLIGHT
BEGIN:STANDARD
TZOFFSETFROM:+0200
TZOFFSETTO:+0100
TZNAME:CET
DTSTART:20291028T010000
END:STANDARD
END:VTIMEZONE
BEGIN:VEVENT
DTSTART;TZID=Europe/Berlin:20261201T190000
DTEND;TZID=Europe/Berlin:20261201T203000
DTSTAMP:20260422T085252
CREATED:20260219T075147Z
LAST-MODIFIED:20260422T063640Z
UID:115581-1796151600-1796157000@www.gymnasiumtostedt.de
SUMMARY:JHV Schulverein
DESCRIPTION:
URL:https://www.gymnasiumtostedt.de/event/jhv-schulverein/
LOCATION:305
END:VEVENT
BEGIN:VEVENT
DTSTART;TZID=Europe/Berlin:20261210T183000
DTEND;TZID=Europe/Berlin:20261210T193000
DTSTAMP:20260422T085252
CREATED:20260219T075147Z
LAST-MODIFIED:20260422T063640Z
UID:115582-1796927400-1796931000@www.gymnasiumtostedt.de
SUMMARY:Schulvorstand 2
DESCRIPTION:
URL:https://www.gymnasiumtostedt.de/event/schulvorstand-2/
LOCATION:305
END:VEVENT
BEGIN:VEVENT
DTSTART;TZID=Europe/Berlin:20270129T080000
DTEND;TZID=Europe/Berlin:20270129T102000
DTSTAMP:20260422T085252
CREATED:20260219T075147Z
LAST-MODIFIED:20260422T063655Z
UID:115583-1801209600-1801218000@www.gymnasiumtostedt.de
SUMMARY:Ausgabe der Halbjahreszeugnisse
DESCRIPTION:Unterrichtsschluss nach der 3. Stunde
URL:https://www.gymnasiumtostedt.de/event/ausgabe-der-halbjahreszeugnisse/
END:VEVENT
BEGIN:VEVENT
DTSTART;TZID=Europe/Berlin:20270218T193000
DTEND;TZID=Europe/Berlin:20270218T210000
DTSTAMP:20260422T085252
CREATED:20260219T075148Z
LAST-MODIFIED:20260422T063655Z
UID:115584-1802979000-1802984400@www.gymnasiumtostedt.de
SUMMARY:Schulelternrat 3
DESCRIPTION:
URL:https://www.gymnasiumtostedt.de/event/schulelternrat-3-2/
LOCATION:Aula
END:VEVENT
BEGIN:VEVENT
DTSTART;TZID=Europe/Berlin:20270224T160000
DTEND;TZID=Europe/Berlin:20270224T190000
DTSTAMP:20260422T085252
CREATED:20260219T075201Z
LAST-MODIFIED:20260422T063655Z
UID:115585-1803484800-1803495600@www.gymnasiumtostedt.de
SUMMARY:Elternsprachtag 2
DESCRIPTION:Detailplanung folgt mit Einladung
URL:https://www.gymnasiumtostedt.de/event/elternsprachtag-2/
END:VEVENT
BEGIN:VEVENT
DTSTART;TZID=Europe/Berlin:20270309T180000
DTEND;TZID=Europe/Berlin:20270309T193000
DTSTAMP:20260422T085252
CREATED:20260219T083706Z
LAST-MODIFIED:20260422T063655Z
UID:115593-1804615200-1804620600@www.gymnasiumtostedt.de
SUMMARY:Vorstellung 2. Fremdsprachen
DESCRIPTION:Vorstellung der zweiten Fremdsprachen für den Jahrgang 5
URL:https://www.gymnasiumtostedt.de/event/vorstellung-2-fremdsprachen/
LOCATION:Aula
END:VEVENT
BEGIN:VEVENT
DTSTART;TZID=Europe/Berlin:20270311T183000
DTEND;TZID=Europe/Berlin:20270311T200000
DTSTAMP:20260422T085252
CREATED:20260219T083707Z
LAST-MODIFIED:20260422T063655Z
UID:115594-1804789800-1804795200@www.gymnasiumtostedt.de
SUMMARY:Schulvorstand 3
DESCRIPTION:
URL:https://www.gymnasiumtostedt.de/event/schulvorstand-3-2/
LOCATION:305
END:VEVENT
BEGIN:VEVENT
DTSTART;VALUE=DATE:20270420
DTEND;VALUE=DATE:20270421
DTSTAMP:20260422T085252
CREATED:20250420T002156Z
LAST-MODIFIED:20260422T063655Z
UID:102054-1808179200-1808265599@www.gymnasiumtostedt.de
SUMMARY:Beantragung des Buchpreises für das beste Deutschabiturs bei der Gesellschaft für deutsche Sprache
DESCRIPTION:
URL:https://www.gymnasiumtostedt.de/event/beantragung-des-buchpreises-fuer-das-beste-deutschabiturs-bei-der-gesellschaft-fuer-deutsche-sprache-2/
LOCATION:VDS-Geschäftsstelle &lt;info@vds-ev.de&gt;
CATEGORIES:Rote Kategorie
END:VEVENT
BEGIN:VEVENT
DTSTART;TZID=Europe/Berlin:20270505T190000
DTEND;TZID=Europe/Berlin:20270505T220000
DTSTAMP:20260422T085252
CREATED:20260219T083708Z
LAST-MODIFIED:20260422T063655Z
UID:115595-1809543600-1809554400@www.gymnasiumtostedt.de
SUMMARY:Ehemaligentreffen
DESCRIPTION:
URL:https://www.gymnasiumtostedt.de/event/ehemaligentreffen-3/
END:VEVENT
BEGIN:VEVENT
DTSTART;VALUE=DATE:20270526
DTEND;VALUE=DATE:20270527
DTSTAMP:20260422T085252
CREATED:20260219T083708Z
LAST-MODIFIED:20260422T063655Z
UID:115596-1811289600-1811375999@www.gymnasiumtostedt.de
SUMMARY:Mündliche Abiturprüfungen Tag 1
DESCRIPTION:Studientag für die Jahrgänge 5-12
URL:https://www.gymnasiumtostedt.de/event/muendliche-abiturpruefungen-tag-1/
END:VEVENT
BEGIN:VEVENT
DTSTART;VALUE=DATE:20270527
DTEND;VALUE=DATE:20270528
DTSTAMP:20260422T085252
CREATED:20260219T083709Z
LAST-MODIFIED:20260422T063655Z
UID:115597-1811376000-1811462399@www.gymnasiumtostedt.de
SUMMARY:Mündliche Abiturprüfungen Tag 2
DESCRIPTION:Studientag für die Jahrgänge 5-12
URL:https://www.gymnasiumtostedt.de/event/muendliche-abiturpruefungen-tag-2/
END:VEVENT
BEGIN:VEVENT
DTSTART;TZID=Europe/Berlin:20270603T170000
DTEND;TZID=Europe/Berlin:20270603T183000
DTSTAMP:20260422T085252
CREATED:20260219T083709Z
LAST-MODIFIED:20260422T063656Z
UID:115598-1812042000-1812047400@www.gymnasiumtostedt.de
SUMMARY:Gesamtkonferenz 2
DESCRIPTION:
URL:https://www.gymnasiumtostedt.de/event/gesamtkonferenz-2-2/
LOCATION:Aula
END:VEVENT
BEGIN:VEVENT
DTSTART;TZID=Europe/Berlin:20270603T193000
DTEND;TZID=Europe/Berlin:20270603T203000
DTSTAMP:20260422T085252
CREATED:20260219T083710Z
LAST-MODIFIED:20260422T063710Z
UID:115599-1812051000-1812054600@www.gymnasiumtostedt.de
SUMMARY:Schulelternrat 4
DESCRIPTION:
URL:https://www.gymnasiumtostedt.de/event/schulelternrat-4/
LOCATION:Aula
END:VEVENT
BEGIN:VEVENT
DTSTART;TZID=Europe/Berlin:20270630T140000
DTEND;TZID=Europe/Berlin:20270630T173000
DTSTAMP:20260422T085252
CREATED:20260219T083710Z
LAST-MODIFIED:20260422T063710Z
UID:115600-1814364000-1814376600@www.gymnasiumtostedt.de
SUMMARY:Versetzungskonferenzen Tag 1
DESCRIPTION:Detailplan folgt
URL:https://www.gymnasiumtostedt.de/event/versetzungskonferenzen-tag-1-3/
END:VEVENT
BEGIN:VEVENT
DTSTART;TZID=Europe/Berlin:20270701T140000
DTEND;TZID=Europe/Berlin:20270701T173000
DTSTAMP:20260422T085252
CREATED:20260219T083727Z
LAST-MODIFIED:20260422T063710Z
UID:115601-1814450400-1814463000@www.gymnasiumtostedt.de
SUMMARY:Versetzungskonferenzen Tag 2
DESCRIPTION:Detailplan folgt
URL:https://www.gymnasiumtostedt.de/event/versetzungskonferenzen-tag-2-3/
END:VEVENT
BEGIN:VEVENT
DTSTART;TZID=Europe/Berlin:20270702T130000
DTEND;TZID=Europe/Berlin:20270702T160000
DTSTAMP:20260422T085252
CREATED:20260219T083727Z
LAST-MODIFIED:20260422T063710Z
UID:115602-1814533200-1814544000@www.gymnasiumtostedt.de
SUMMARY:ABITUR 2027: Entlassfeier für Abiturientinnen und Abiturienten
DESCRIPTION:
URL:https://www.gymnasiumtostedt.de/event/abitur-2027-entlassfeier-fuer-abiturientinnen-und-abiturienten/
LOCATION:Aula
END:VEVENT
BEGIN:VEVENT
DTSTART;TZID=Europe/Berlin:20270707T093500
DTEND;TZID=Europe/Berlin:20270707T102500
DTSTAMP:20260422T085252
CREATED:20260219T083728Z
LAST-MODIFIED:20260422T063711Z
UID:115603-1814952900-1814955900@www.gymnasiumtostedt.de
SUMMARY:Zeugnisausgabe und Schuljahresende
DESCRIPTION:Unterrichtsschluss nach der dritten Stunde
URL:https://www.gymnasiumtostedt.de/event/zeugnisausgabe-und-schuljahresende/
END:VEVENT
BEGIN:VEVENT
DTSTART;VALUE=DATE:20280420
DTEND;VALUE=DATE:20280421
DTSTAMP:20260422T085252
CREATED:20260420T003657Z
LAST-MODIFIED:20260422T063711Z
UID:118188-1839801600-1839887999@www.gymnasiumtostedt.de
SUMMARY:Beantragung des Buchpreises für das beste Deutschabiturs bei der Gesellschaft für deutsche Sprache
DESCRIPTION:
URL:https://www.gymnasiumtostedt.de/event/beantragung-des-buchpreises-fuer-das-beste-deutschabiturs-bei-der-gesellschaft-fuer-deutsche-sprache-3/
LOCATION:VDS-Geschäftsstelle &lt;info@vds-ev.de&gt;
CATEGORIES:Rote Kategorie
END:VEVENT
END:VCALENDAR